BEGIN:VCALENDAR
VERSION:2.0
PRODID:-//Foundation Metaverse Europe - ECPv6.15.20//NONSGML v1.0//EN
CALSCALE:GREGORIAN
METHOD:PUBLISH
X-ORIGINAL-URL:https://foundationmetaverse.eu/en
X-WR-CALDESC:Events for Foundation Metaverse Europe
REFRESH-INTERVAL;VALUE=DURATION:PT1H
X-Robots-Tag:noindex
X-PUBLISHED-TTL:PT1H
BEGIN:VTIMEZONE
TZID:Europe/Berlin
BEGIN:DAYLIGHT
TZOFFSETFROM:+0100
TZOFFSETTO:+0200
TZNAME:CEST
DTSTART:20210328T010000
END:DAYLIGHT
BEGIN:STANDARD
TZOFFSETFROM:+0200
TZOFFSETTO:+0100
TZNAME:CET
DTSTART:20211031T010000
END:STANDARD
BEGIN:DAYLIGHT
TZOFFSETFROM:+0100
TZOFFSETTO:+0200
TZNAME:CEST
DTSTART:20220327T010000
END:DAYLIGHT
BEGIN:STANDARD
TZOFFSETFROM:+0200
TZOFFSETTO:+0100
TZNAME:CET
DTSTART:20221030T010000
END:STANDARD
BEGIN:DAYLIGHT
TZOFFSETFROM:+0100
TZOFFSETTO:+0200
TZNAME:CEST
DTSTART:20230326T010000
END:DAYLIGHT
BEGIN:STANDARD
TZOFFSETFROM:+0200
TZOFFSETTO:+0100
TZNAME:CET
DTSTART:20231029T010000
END:STANDARD
END:VTIMEZONE
BEGIN:VEVENT
DTSTART;TZID=Europe/Berlin:20221121T100000
DTEND;TZID=Europe/Berlin:20221121T180000
DTSTAMP:20260422T132822
CREATED:20221108T144640Z
LAST-MODIFIED:20221108T144640Z
UID:601-1669024800-1669053600@foundationmetaverse.eu
SUMMARY:Metaverse Workshop with the Berlin University Alliance
DESCRIPTION:Workshop with on the topic of collaboration between universities and companies in the metaverse in the formation of the Berlin University Alliance. https://www.berlin-university-alliance.de/
URL:https://foundationmetaverse.eu/en/event/metaverse-workshop-with-the-berlin-university-alliance
END:VEVENT
BEGIN:VEVENT
DTSTART;TZID=Europe/Berlin:20221027T180000
DTEND;TZID=Europe/Berlin:20221027T183000
DTSTAMP:20260422T132822
CREATED:20221022T071148Z
LAST-MODIFIED:20221022T071148Z
UID:460-1666893600-1666895400@foundationmetaverse.eu
SUMMARY:Presentation at the European Metaverse Award: "How to anchor European values in the emerging Metaverse".
DESCRIPTION:“How to anchor European values in the emerging metaverse”.\n \n\nOliver Autumn\, Founder & CEO\, Foundation Metaverse Europe
URL:https://foundationmetaverse.eu/en/event/presentation-at-the-european-metaverse-award-how-to-anchor-european-values-in-the-emerging-metaverse
END:VEVENT
BEGIN:VEVENT
DTSTART;TZID=Europe/Berlin:20221025T210000
DTEND;TZID=Europe/Berlin:20221025T223000
DTSTAMP:20260422T132822
CREATED:20221022T070733Z
LAST-MODIFIED:20221022T070733Z
UID:461-1666731600-1666737000@foundationmetaverse.eu
SUMMARY:"How do we anchor Europe's values in the metaverse?" - Lecture at Rotary Alexanderplatz
DESCRIPTION:“How do we anchor Europe’s values in the Metaverse?” – Oliver Autumn and Maren Courage Executive Directors of the non-profit Foundation Metaverse Europe
URL:https://foundationmetaverse.eu/en/event/how-do-we-anchor-europes-values-in-the-metaverse-lecture-at-rotary-alexanderplatz
END:VEVENT
BEGIN:VEVENT
DTSTART;TZID=Europe/Berlin:20221017T210000
DTEND;TZID=Europe/Berlin:20221018T003000
DTSTAMP:20260422T132822
CREATED:20220515T082850Z
LAST-MODIFIED:20220515T082850Z
UID:453-1666040400-1666053000@foundationmetaverse.eu
SUMMARY:Kick-off Event of the Foundation Metaverse Europe
DESCRIPTION:Meet in an exclusive round with board members and top decision makers from the business world as well as with politicians from the Bundestag and the federal states in one of the most beautiful event locations in the heart of Berlin\, the PanAm Lounge.  \nThe evening will serve to learn more about the much-hyped Metaverse concept and how we\, as a company and society\, can help identify disruptive innovations in the context of virtual worlds and experiences\, and anticipate the dangers of the Metaverse in the context of our European sovereignty. \nWe look forward to an enlightening evening with highly relevant and controversial topics! \nBest regards\, Maren Courage and Oliver Autumn
URL:https://foundationmetaverse.eu/en/event/kick-off-event-of-the-foundation-metaverse-europe
LOCATION:PanAm Lounge\, Budapester Str. 43\, Berlin\, Berlin\, 10787\, Deutschland
END:VEVENT
BEGIN:VEVENT
DTSTART;VALUE=DATE:20220608
DTEND;VALUE=DATE:20220610
DTSTAMP:20260422T132822
CREATED:20220522T092107Z
LAST-MODIFIED:20220522T092107Z
UID:454-1654653600-1654739999@foundationmetaverse.eu
SUMMARY:Metaverse Vortrag beim Bundesverband für Erziehungshilfe e. V.
DESCRIPTION:
URL:https://foundationmetaverse.eu/en/event/metaverse-vortrag-beim-bundesverband-fuer-erziehungshilfe-e-v
END:VEVENT
END:VCALENDAR